BEGIN:VCALENDAR
VERSION:2.0
PRODID:-//Independence Farmers Market - ECPv6.15.20//NONSGML v1.0//EN
CALSCALE:GREGORIAN
METHOD:PUBLISH
X-ORIGINAL-URL:https://independencefarmersmarket.org
X-WR-CALDESC:Events for Independence Farmers Market
REFRESH-INTERVAL;VALUE=DURATION:PT1H
X-Robots-Tag:noindex
X-PUBLISHED-TTL:PT1H
BEGIN:VTIMEZONE
TZID:America/New_York
BEGIN:DAYLIGHT
TZOFFSETFROM:-0500
TZOFFSETTO:-0400
TZNAME:EDT
DTSTART:20240310T070000
END:DAYLIGHT
BEGIN:STANDARD
TZOFFSETFROM:-0400
TZOFFSETTO:-0500
TZNAME:EST
DTSTART:20241103T060000
END:STANDARD
BEGIN:DAYLIGHT
TZOFFSETFROM:-0500
TZOFFSETTO:-0400
TZNAME:EDT
DTSTART:20250309T070000
END:DAYLIGHT
BEGIN:STANDARD
TZOFFSETFROM:-0400
TZOFFSETTO:-0500
TZNAME:EST
DTSTART:20251102T060000
END:STANDARD
BEGIN:DAYLIGHT
TZOFFSETFROM:-0500
TZOFFSETTO:-0400
TZNAME:EDT
DTSTART:20260308T070000
END:DAYLIGHT
BEGIN:STANDARD
TZOFFSETFROM:-0400
TZOFFSETTO:-0500
TZNAME:EST
DTSTART:20261101T060000
END:STANDARD
END:VTIMEZONE
BEGIN:VEVENT
DTSTART;TZID=America/New_York:20250926T090000
DTEND;TZID=America/New_York:20250926T130000
DTSTAMP:20260419T203749
CREATED:20230906T182115Z
LAST-MODIFIED:20250126T105609Z
UID:3845-1758877200-1758891600@independencefarmersmarket.org
SUMMARY:Pepper Day Friday September 26
DESCRIPTION:This Friday is Pepper Day!  While the selection isn’t quite as extensive as our tomato tasting\, it’s a great way to taste lots of sweet and hot peppers. Don’t worry\, we’ll label the hot ones!  We’ll have water\, but if you plan to eat lots of hot ones\, bring your own milk or cheese.  Dairy quenches the heat\, water can just spread it around. \n 
URL:https://independencefarmersmarket.org/event/pepper-day-friday-september-8/
LOCATION:Town Park
ATTACH;FMTTYPE=image/jpeg:https://independencefarmersmarket.org/wp-content/uploads/2019/08/peppertaste2018.jpg
END:VEVENT
END:VCALENDAR