BEGIN:VCALENDAR
VERSION:2.0
PRODID:-//Independence Farmers Market - ECPv6.15.20//NONSGML v1.0//EN
CALSCALE:GREGORIAN
METHOD:PUBLISH
X-ORIGINAL-URL:https://independencefarmersmarket.org
X-WR-CALDESC:Events for Independence Farmers Market
REFRESH-INTERVAL;VALUE=DURATION:PT1H
X-Robots-Tag:noindex
X-PUBLISHED-TTL:PT1H
BEGIN:VTIMEZONE
TZID:America/New_York
BEGIN:DAYLIGHT
TZOFFSETFROM:-0500
TZOFFSETTO:-0400
TZNAME:EDT
DTSTART:20230312T070000
END:DAYLIGHT
BEGIN:STANDARD
TZOFFSETFROM:-0400
TZOFFSETTO:-0500
TZNAME:EST
DTSTART:20231105T060000
END:STANDARD
BEGIN:DAYLIGHT
TZOFFSETFROM:-0500
TZOFFSETTO:-0400
TZNAME:EDT
DTSTART:20240310T070000
END:DAYLIGHT
BEGIN:STANDARD
TZOFFSETFROM:-0400
TZOFFSETTO:-0500
TZNAME:EST
DTSTART:20241103T060000
END:STANDARD
BEGIN:DAYLIGHT
TZOFFSETFROM:-0500
TZOFFSETTO:-0400
TZNAME:EDT
DTSTART:20250309T070000
END:DAYLIGHT
BEGIN:STANDARD
TZOFFSETFROM:-0400
TZOFFSETTO:-0500
TZNAME:EST
DTSTART:20251102T060000
END:STANDARD
END:VTIMEZONE
BEGIN:VEVENT
DTSTART;TZID=America/New_York:20240914T130000
DTEND;TZID=America/New_York:20240914T160000
DTSTAMP:20260419T231912
CREATED:20240121T202925Z
LAST-MODIFIED:20240123T014958Z
UID:3937-1726318800-1726329600@independencefarmersmarket.org
SUMMARY:Invasive plant Control\, Sept 14
DESCRIPTION:This was one of our most popular presentations last year.  If you need a refresher or missed the presentation last year\, here’s your chance.  Cynthia and Rick Taylor will share their expertise on how to control invasive plants common to our area.  The workshop is from  1-4pm\, location to be announced.
URL:https://independencefarmersmarket.org/event/invasive-plant-control-sept-7/
ATTACH;FMTTYPE=image/jpeg:https://independencefarmersmarket.org/wp-content/uploads/2024/01/invasive-plants-Rick.jpg
END:VEVENT
END:VCALENDAR